Workbook

Sheet Instructions
A2: Input only the yellow cells on the "Item Analysis" tab for data that is true for your family.
A4: The Decision tab will tell you where you should shop.
A6: this assumes you have the space to always store bulk everything
A8: does not take into consideration brand preferences on most items
A10: Costco seems to have more regular sales. I didn’t put sales prices.
A12: Almost all of the Aldi items are off brand, while those same items are often name brand at discount stores (ie Bunny bread at Sams & Costco v off brand at Aldi)
A14: I don't know how to build in fuel. It's a moving target, and likely to majorly impact the decision. I'm sorry.
A16: If an item is not sold at Aldi, savings value will equal zero. This could be wrong for your household decision making (ie would you buy item at target, or go without?)

Sheet Price Master List
A1: Item | B1: Department | C1: Sam's Club | D1: quantity | E1: unit | F1: price/quantity | G1: Costco | H1: quantity | I1: unit | J1: price/quantity | K1: Aldi | L1: quantity | M1: unit | N1: price/quantity | O1: Price | P1: Per quantity | Q1: Where to buy
A2: activia yogurt | B2: Dairy | C2: 8.98 | D2: 24 | E2: =P2 -> count | F2: =ROUND(C2/D2,2) -> 0.37 | G2: 9.59 | H2: 24 | I2: =P2 -> count | J2: =ROUND(G2/H2,2) -> 0.4 | K2: x | M2: =P2 -> count | N2: =ROUND(K2/L2,2) -> #VALUE! | O2: =MIN(IFERROR(F2,N2),IFERROR(J2,F2),IFERROR(N2,J2)) -> 0.37 | P2: count | Q2: =IF(O2=IFERROR(N2,9999),$K$1,IF(O2=IFERROR(J2,9999),$G$1,$C$1)) -> Sam's Club
A3: advil | B3: medicine | C3: 19.48 | D3: 216 | E3: =P3 -> count | F3: =ROUND(C3/D3,2) -> 0.09 | G3: 17.39 | H3: 360 | I3: =P3 -> count | J3: =ROUND(G3/H3,2) -> 0.05 | K3: x | M3: =P3 -> count | N3: =ROUND(K3/L3,2) -> #VALUE! | O3: =MIN(IFERROR(F3,N3),IFERROR(J3,F3),IFERROR(N3,J3)) -> 0.05 | P3: count | Q3: =IF(O3=IFERROR(N3,9999),$K$1,IF(O3=IFERROR(J3,9999),$G$1,$C$1)) -> Costco
A4: alfredo sauce | B4: pantry | C4: 6.12 | D4: =15*3 -> 45 | E4: =P4 -> ounces | F4: =ROUND(C4/D4,2) -> 0.14 | G4: 10.99 | H4: 49 | I4: =P4 -> ounces | J4: =ROUND(G4/H4,2) -> 0.22 | K4: 1.89 | L4: 14 | M4: =P4 -> ounces | N4: =ROUND(K4/L4,2) -> 0.14 | O4: =MIN(IFERROR(F4,N4),IFERROR(J4,F4),IFERROR(N4,J4)) -> 0.14 | P4: ounces | Q4: =IF(O4=IFERROR(N4,9999),$K$1,IF(O4=IFERROR(J4,9999),$G$1,$C$1)) -> Aldi
A5: all free & clear | B5: cleaning | C5: 14.67 | D5: 249 | E5: =P5 -> ounces | F5: =ROUND(C5/D5,2) -> 0.06 | G5: 14.99 | H5: 237 | I5: =P5 -> ounces | J5: =ROUND(G5/H5,2) -> 0.06 | K5: x | M5: =P5 -> ounces | N5: =ROUND(K5/L5,2) -> #VALUE! | O5: =MIN(IFERROR(F5,N5),IFERROR(J5,F5),IFERROR(N5,J5)) -> 0.06 | P5: ounces | Q5: =IF(O5=IFERROR(N5,9999),$K$1,IF(O5=IFERROR(J5,9999),$G$1,$C$1)) -> Costco
A6: apple juice | B6: drinks | E6: =P6 -> ounces | F6: =ROUND(C6/D6,2) -> #DIV/0! | G6: 8.49 | H6: =2*128 -> 256 | I6: =P6 -> ounces | J6: =ROUND(G6/H6,2) -> 0.03 | K6: 1.42 | L6: 64 | M6: =P6 -> ounces | N6: =ROUND(K6/L6,2) -> 0.02 | O6: =MIN(IFERROR(F6,N6),IFERROR(J6,F6),IFERROR(N6,J6)) -> 0.02 | P6: ounces | Q6: =IF(O6=IFERROR(N6,9999),$K$1,IF(O6=IFERROR(J6,9999),$G$1,$C$1)) -> Aldi
A7: applesauce pouches | B7: pantry | C7: 12.98 | D7: 32 | E7: =P7 -> count | F7: =ROUND(C7/D7,2) -> 0.41 | G7: 18.99 | H7: 48 | I7: =P7 -> count | J7: =ROUND(G7/H7,2) -> 0.4 | K7: 4.39 | L7: 12 | M7: =P7 -> count | N7: =ROUND(K7/L7,2) -> 0.37 | O7: =MIN(IFERROR(F7,N7),IFERROR(J7,F7),IFERROR(N7,J7)) -> 0.37 | P7: count | Q7: =IF(O7=IFERROR(N7,9999),$K$1,IF(O7=IFERROR(J7,9999),$G$1,$C$1)) -> Aldi
A8: baby bella mushrooms | B8: Produce | C8: 4.43 | D8: 24 | E8: =P8 -> ounces | F8: =ROUND(C8/D8,2) -> 0.18 | G8: 5.99 | H8: 24 | I8: =P8 -> ounces | J8: =ROUND(G8/H8,2) -> 0.25 | K8: 1.99 | L8: 8 | M8: =P8 -> ounces | N8: =ROUND(K8/L8,2) -> 0.25 | O8: =MIN(IFERROR(F8,N8),IFERROR(J8,F8),IFERROR(N8,J8)) -> 0.18 | P8: ounces | Q8: =IF(O8=IFERROR(N8,9999),$K$1,IF(O8=IFERROR(J8,9999),$G$1,$C$1)) -> Sam's Club
A9: Bacon | B9: Meat | C9: 15.66 | D9: 3 | E9: =P9 -> pound | F9: =ROUND(C9/D9,2) -> 5.22 | G9: 18.99 | H9: 4 | I9: =P9 -> pound | J9: =ROUND(G9/H9,2) -> 4.75 | K9: 4.19 | L9: 1 | M9: =P9 -> pound | N9: =ROUND(K9/L9,2) -> 4.19 | O9: =MIN(IFERROR(F9,N9),IFERROR(J9,F9),IFERROR(N9,J9)) -> 4.19 | P9: pound | Q9: =IF(O9=IFERROR(N9,9999),$K$1,IF(O9=IFERROR(J9,9999),$G$1,$C$1)) -> Aldi
A10: bagels | B10: bread | C10: 2.98 | D10: 6 | E10: =P10 -> count | F10: =ROUND(C10/D10,2) -> 0.5 | G10: 7.99 | H10: 12 | I10: =P10 -> count | J10: =ROUND(G10/H10,2) -> 0.67 | K10: 1.49 | L10: 6 | M10: =P10 -> count | N10: =ROUND(K10/L10,2) -> 0.25 | O10: =MIN(IFERROR(F10,N10),IFERROR(J10,F10),IFERROR(N10,J10)) -> 0.25 | P10: count | Q10: =IF(O10=IFERROR(N10,9999),$K$1,IF(O10=IFERROR(J10,9999),$G$1,$C$1)) -> Aldi
A11: baking potatoes | B11: Produce | C11: 8.28 | D11: 15 | E11: =P11 -> pound | F11: =ROUND(C11/D11,2) -> 0.55 | G11: 7.99 | H11: 15 | I11: =P11 -> pound | J11: =ROUND(G11/H11,2) -> 0.53 | K11: 4.39 | L11: 10 | M11: =P11 -> pound | N11: =ROUND(K11/L11,2) -> 0.44 | O11: =MIN(IFERROR(F11,N11),IFERROR(J11,F11),IFERROR(N11,J11)) -> 0.44 | P11: pound | Q11: =IF(O11=IFERROR(N11,9999),$K$1,IF(O11=IFERROR(J11,9999),$G$1,$C$1)) -> Aldi
A12: baking soda | B12: Pantry | C12: 7.74 | D12: 15 | E12: =P12 -> pound | F12: =ROUND(C12/D12,2) -> 0.52 | G12: 6.89 | H12: 13.5 | I12: =P12 -> pound | J12: =ROUND(G12/H12,2) -> 0.51 | K12: 0.59 | L12: 1 | M12: =P12 -> pound | N12: =ROUND(K12/L12,2) -> 0.59 | O12: =MIN(IFERROR(F12,N12),IFERROR(J12,F12),IFERROR(N12,J12)) -> 0.51 | P12: pound | Q12: =IF(O12=IFERROR(N12,9999),$K$1,IF(O12=IFERROR(J12,9999),$G$1,$C$1)) -> Costco
A13: Bananas | B13: Produce | C13: 1.58 | D13: 3 | E13: =P13 -> pound | F13: =ROUND(C13/D13,2) -> 0.53 | G13: 2.28 | H13: 3 | I13: =P13 -> pound | J13: =ROUND(G13/H13,2) -> 0.76 | K13: 0.47 | L13: 1 | M13: =P13 -> pound | N13: =ROUND(K13/L13,2) -> 0.47 | O13: =MIN(IFERROR(F13,N13),IFERROR(J13,F13),IFERROR(N13,J13)) -> 0.47 | P13: pound | Q13: =IF(O13=IFERROR(N13,9999),$K$1,IF(O13=IFERROR(J13,9999),$G$1,$C$1)) -> Aldi
A14: beef for stew | B14: Meat | C14: 5.48 | D14: 1 | E14: =P14 -> pound | F14: =ROUND(C14/D14,2) -> 5.48 | G14: 5.49 | H14: 1 | I14: =P14 -> pound | J14: =ROUND(G14/H14,2) -> 5.49 | K14: x | M14: =P14 -> pound | N14: =ROUND(K14/L14,2) -> #VALUE! | O14: =MIN(IFERROR(F14,N14),IFERROR(J14,F14),IFERROR(N14,J14)) -> 5.48 | P14: pound | Q14: =IF(O14=IFERROR(N14,9999),$K$1,IF(O14=IFERROR(J14,9999),$G$1,$C$1)) -> Sam's Club
A15: Black beans | B15: Cans | C15: 4.88 | D15: 6 | E15: =P15 -> cans | F15: =ROUND(C15/D15,2) -> 0.81 | I15: =P15 -> cans | J15: =ROUND(G15/H15,2) -> #DIV/0! | K15: 0.58 | L15: 1 | M15: =P15 -> cans | N15: =ROUND(K15/L15,2) -> 0.58 | O15: =MIN(IFERROR(F15,N15),IFERROR(J15,F15),IFERROR(N15,J15)) -> 0.58 | P15: cans | Q15: =IF(O15=IFERROR(N15,9999),$K$1,IF(O15=IFERROR(J15,9999),$G$1,$C$1)) -> Aldi
A16: Block cheddar | B16: Dairy | C16: 5.73 | D16: 2 | E16: =P16 -> pounds | F16: =ROUND(C16/D16,2) -> 2.87 | G16: 4.99 | H16: 2 | I16: =P16 -> pounds | J16: =ROUND(G16/H16,2) -> 2.5 | K16: 1.75 | L16: 0.5 | M16: =P16 -> pounds | N16: =ROUND(K16/L16,2) -> 3.5 | O16: =MIN(IFERROR(F16,N16),IFERROR(J16,F16),IFERROR(N16,J16)) -> 2.5 | P16: pounds | Q16: =IF(O16=IFERROR(N16,9999),$K$1,IF(O16=IFERROR(J16,9999),$G$1,$C$1)) -> Costco
A17: block colby jack | B17: Dairy | C17: 5.47 | D17: 2 | E17: =P17 -> pounds | F17: =ROUND(C17/D17,2) -> 2.74 | G17: 5.39 | H17: 2 | I17: =P17 -> pounds | J17: =ROUND(G17/H17,2) -> 2.7 | K17: 1.75 | L17: 0.5 | M17: =P17 -> pounds | N17: =ROUND(K17/L17,2) -> 3.5 | O17: =MIN(IFERROR(F17,N17),IFERROR(J17,F17),IFERROR(N17,J17)) -> 2.7 | P17: pounds | Q17: =IF(O17=IFERROR(N17,9999),$K$1,IF(O17=IFERROR(J17,9999),$G$1,$C$1)) -> Costco
A18: block parmesean | B18: Dairy | C18: 5.98 | D18: 16 | E18: =P18 -> ounces | F18: =ROUND(C18/D18,2) -> 0.37 | G18: 12.49 | H18: 16 | I18: =P18 -> ounces | J18: =ROUND(G18/H18,2) -> 0.78 | K18: 3.29 | L18: 0.5 | M18: =P18 -> ounces | N18: =ROUND(K18/L18,2) -> 6.58 | O18: =MIN(IFERROR(F18,N18),IFERROR(J18,F18),IFERROR(N18,J18)) -> 0.37 | P18: ounces | Q18: =IF(O18=IFERROR(N18,9999),$K$1,IF(O18=IFERROR(J18,9999),$G$1,$C$1)) -> Sam's Club
A19: boneless pork shoulder | B19: Meat | C19: 1.96 | D19: 1 | E19: =P19 -> pound | F19: =ROUND(C19/D19,2) -> 1.96 | G19: 1.99 | H19: 1 | I19: =P19 -> pound | J19: =ROUND(G19/H19,2) -> 1.99 | K19: x | M19: =P19 -> pound | N19: =ROUND(K19/L19,2) -> #VALUE! | O19: =MIN(IFERROR(F19,N19),IFERROR(J19,F19),IFERROR(N19,J19)) -> 1.96 | P19: pound | Q19: =IF(O19=IFERROR(N19,9999),$K$1,IF(O19=IFERROR(J19,9999),$G$1,$C$1)) -> Sam's Club
A20: Bread loaf | B20: bread | C20: 3.64 | D20: 48 | E20: =P20 -> ounces | F20: =ROUND(C20/D20,2) -> 0.08 | G20: 2.99 | H20: 20 | I20: =P20 -> ounces | J20: =ROUND(G20/H20,2) -> 0.15 | K20: 1.19 | L20: 20 | M20: =P20 -> ounces | N20: =ROUND(K20/L20,2) -> 0.06 | O20: =MIN(IFERROR(F20,N20),IFERROR(J20,F20),IFERROR(N20,J20)) -> 0.06 | P20: ounces | Q20: =IF(O20=IFERROR(N20,9999),$K$1,IF(O20=IFERROR(J20,9999),$G$1,$C$1)) -> Aldi
A21: Breakfast sausage patty | B21: meat | C21: 10.94 | D21: 4 | E21: =P21 -> pound | F21: =ROUND(C21/D21,2) -> 2.74 | I21: =P21 -> pound | J21: =ROUND(G21/H21,2) -> #DIV/0! | K21: 6.89 | L21: 2 | M21: =P21 -> pound | N21: =ROUND(K21/L21,2) -> 3.45 | O21: =MIN(IFERROR(F21,N21),IFERROR(J21,F21),IFERROR(N21,J21)) -> 2.74 | P21: pound | Q21: =IF(O21=IFERROR(N21,9999),$K$1,IF(O21=IFERROR(J21,9999),$G$1,$C$1)) -> Sam's Club
A22: broccoli | B22: Produce | C22: 3.98 | D22: 2 | E22: =P22 -> pound | F22: =ROUND(C22/D22,2) -> 1.99 | G22: 6.99 | H22: 3 | I22: =P22 -> pound | J22: =ROUND(G22/H22,2) -> 2.33 | K22: 1.05 | L22: 1 | M22: =P22 -> pound | N22: =ROUND(K22/L22,2) -> 1.05 | O22: =MIN(IFERROR(F22,N22),IFERROR(J22,F22),IFERROR(N22,J22)) -> 1.05 | P22: pound | Q22: =IF(O22=IFERROR(N22,9999),$K$1,IF(O22=IFERROR(J22,9999),$G$1,$C$1)) -> Aldi
A23: Brown sugar | B23: Pantry | C23: 5.38 | D23: 7 | E23: =P23 -> pound | F23: =ROUND(C23/D23,2) -> 0.77 | G23: 4.59 | H23: 7 | I23: =P23 -> pound | J23: =ROUND(G23/H23,2) -> 0.66 | K23: 1.39 | L23: 2 | M23: =P23 -> pound | N23: =ROUND(K23/L23,2) -> 0.7 | O23: =MIN(IFERROR(F23,N23),IFERROR(J23,F23),IFERROR(N23,J23)) -> 0.66 | P23: pound | Q23: =IF(O23=IFERROR(N23,9999),$K$1,IF(O23=IFERROR(J23,9999),$G$1,$C$1)) -> Costco
A24: brussels sprouts | B24: Produce | C24: x | D24: x | E24: =P24 -> pound | F24: =ROUND(C24/D24,2) -> #VALUE! | G24: 6.49 | H24: 2 | I24: =P24 -> pound | J24: =ROUND(G24/H24,2) -> 3.25 | K24: 2.45 | L24: 1 | M24: =P24 -> pound | N24: =ROUND(K24/L24,2) -> 2.45 | O24: =MIN(IFERROR(F24,N24),IFERROR(J24,F24),IFERROR(N24,J24)) -> 2.45 | P24: pound | Q24: =IF(O24=IFERROR(N24,9999),$K$1,IF(O24=IFERROR(J24,9999),$G$1,$C$1)) -> Aldi
A25: caesar salad kit | B25: Produce | C25: 3.72 | D25: 16.9 | E25: =P25 -> ounces | F25: =ROUND(C25/D25,2) -> 0.22 | G25: 8.99 | H25: 24 | I25: =P25 -> ounces | J25: =ROUND(G25/H25,2) -> 0.37 | K25: 2.59 | L25: 10.5 | M25: =P25 -> ounces | N25: =ROUND(K25/L25,2) -> 0.25 | O25: =MIN(IFERROR(F25,N25),IFERROR(J25,F25),IFERROR(N25,J25)) -> 0.22 | P25: ounces | Q25: =IF(O25=IFERROR(N25,9999),$K$1,IF(O25=IFERROR(J25,9999),$G$1,$C$1)) -> Sam's Club
A26: canned green beans | B26: cans | C26: 6.48 | D26: 8 | E26: =P26 -> cans | F26: =ROUND(C26/D26,2) -> 0.81 | G26: 9.49 | H26: 12 | I26: =P26 -> cans | J26: =ROUND(G26/H26,2) -> 0.79 | K26: 0.47 | L26: 1 | M26: =P26 -> cans | N26: =ROUND(K26/L26,2) -> 0.47 | O26: =MIN(IFERROR(F26,N26),IFERROR(J26,F26),IFERROR(N26,J26)) -> 0.47 | P26: cans | Q26: =IF(O26=IFERROR(N26,9999),$K$1,IF(O26=IFERROR(J26,9999),$G$1,$C$1)) -> Aldi
A27: carrots | B27: Produce | C27: 3.98 | D27: 5 | E27: =P27 -> pound | F27: =ROUND(C27/D27,2) -> 0.8 | G27: 5.29 | H27: 4 | I27: =P27 -> pound | J27: =ROUND(G27/H27,2) -> 1.32 | K27: 1.79 | L27: 2 | M27: =P27 -> pound | N27: =ROUND(K27/L27,2) -> 0.9 | O27: =MIN(IFERROR(F27,N27),IFERROR(J27,F27),IFERROR(N27,J27)) -> 0.8 | P27: pound | Q27: =IF(O27=IFERROR(N27,9999),$K$1,IF(O27=IFERROR(J27,9999),$G$1,$C$1)) -> Sam's Club
A28: cashews | B28: nuts | C28: 11.98 | D28: 33 | E28: =P28 -> ounces | F28: =ROUND(C28/D28,2) -> 0.36 | G28: 14.49 | H28: 40 | I28: =P28 -> ounces | J28: =ROUND(G28/H28,2) -> 0.36 | K28: 4.49 | L28: 12 | M28: =P28 -> ounces | N28: =ROUND(K28/L28,2) -> 0.37 | O28: =MIN(IFERROR(F28,N28),IFERROR(J28,F28),IFERROR(N28,J28)) -> 0.36 | P28: ounces | Q28: =IF(O28=IFERROR(N28,9999),$K$1,IF(O28=IFERROR(J28,9999),$G$1,$C$1)) -> Costco
A29: cat food | B29: pet | C29: 19.82 | D29: 32 | E29: =P29 -> pounds | F29: =ROUND(C29/D29,2) -> 0.62 | G29: 19.99 | H29: 25 | I29: =P29 -> pounds | J29: =ROUND(G29/H29,2) -> 0.8 | K29: 8.39 | L29: 16 | M29: =P29 -> pounds | N29: =ROUND(K29/L29,2) -> 0.52 | O29: =MIN(IFERROR(F29,N29),IFERROR(J29,F29),IFERROR(N29,J29)) -> 0.52 | P29: pounds | Q29: =IF(O29=IFERROR(N29,9999),$K$1,IF(O29=IFERROR(J29,9999),$G$1,$C$1)) -> Aldi
A30: cheezits | B30: pantry | C30: 8.28 | D30: =16*3 -> 48 | E30: =P30 -> ounces | F30: =ROUND(C30/D30,2) -> 0.17 | G30: 7.99 | H30: 48 | I30: =P30 -> ounces | J30: =ROUND(G30/H30,2) -> 0.17 | K30: 1.95 | L30: 7 | M30: =P30 -> ounces | N30: =ROUND(K30/L30,2) -> 0.28 | O30: =MIN(IFERROR(F30,N30),IFERROR(J30,F30),IFERROR(N30,J30)) -> 0.17 | P30: ounces | Q30: =IF(O30=IFERROR(N30,9999),$K$1,IF(O30=IFERROR(J30,9999),$G$1,$C$1)) -> Costco
A31: Chicken breast | B31: Meat | C31: 1.99 | D31: 1 | E31: =P31 -> pound | F31: =ROUND(C31/D31,2) -> 1.99 | G31: 2.99 | H31: 1 | I31: =P31 -> pound | J31: =ROUND(G31/H31,2) -> 2.99 | K31: 1.99 | L31: 1 | M31: =P31 -> pound | N31: =ROUND(K31/L31,2) -> 1.99 | O31: =MIN(IFERROR(F31,N31),IFERROR(J31,F31),IFERROR(N31,J31)) -> 1.99 | P31: pound | Q31: =IF(O31=IFERROR(N31,9999),$K$1,IF(O31=IFERROR(J31,9999),$G$1,$C$1)) -> Aldi
A32: Chicken broth | B32: cans | C32: 5.53 | D32: =32*6 -> 192 | E32: =P32 -> ounces | F32: =ROUND(C32/D32,2) -> 0.03 | G32: 6.99 | H32: =12*14.5 -> 174 | I32: =P32 -> ounces | J32: =ROUND(G32/H32,2) -> 0.04 | K32: 1.35 | L32: 32 | M32: =P32 -> ounces | N32: =ROUND(K32/L32,2) -> 0.04 | O32: =MIN(IFERROR(F32,N32),IFERROR(J32,F32),IFERROR(N32,J32)) -> 0.03 | P32: ounces | Q32: =IF(O32=IFERROR(N32,9999),$K$1,IF(O32=IFERROR(J32,9999),$G$1,$C$1)) -> Sam's Club
A33: chicken nuggets | B33: Frozen | C33: 12.98 | D33: 4 | E33: =P33 -> pounds | F33: =ROUND(C33/D33,2) -> 3.25 | G33: 12.79 | H33: 5 | I33: =P33 -> pounds | J33: =ROUND(G33/H33,2) -> 2.56 | K33: x | M33: =P33 -> pounds | N33: =ROUND(K33/L33,2) -> #VALUE! | O33: =MIN(IFERROR(F33,N33),IFERROR(J33,F33),IFERROR(N33,J33)) -> 2.56 | P33: pounds | Q33: =IF(O33=IFERROR(N33,9999),$K$1,IF(O33=IFERROR(J33,9999),$G$1,$C$1)) -> Costco
A34: chili powder | B34: pantry | C34: 7.98 | D34: 20 | E34: =P34 -> ounces | F34: =ROUND(C34/D34,2) -> 0.4 | I34: =P34 -> ounces | J34: =ROUND(G34/H34,2) -> #DIV/0! | K34: 0.95 | L34: 2.5 | M34: =P34 -> ounces | N34: =ROUND(K34/L34,2) -> 0.38 | O34: =MIN(IFERROR(F34,N34),IFERROR(J34,F34),IFERROR(N34,J34)) -> 0.38 | P34: ounces | Q34: =IF(O34=IFERROR(N34,9999),$K$1,IF(O34=IFERROR(J34,9999),$G$1,$C$1)) -> Aldi
A35: chuck roast | B35: meat | C35: 4.98 | D35: 1 | E35: =P35 -> pound | F35: =ROUND(C35/D35,2) -> 4.98 | G35: 5.49 | H35: 1 | I35: =P35 -> pound | J35: =ROUND(G35/H35,2) -> 5.49 | K35: 4.99 | L35: 1 | M35: =P35 -> pound | N35: =ROUND(K35/L35,2) -> 4.99 | O35: =MIN(IFERROR(F35,N35),IFERROR(J35,F35),IFERROR(N35,J35)) -> 4.98 | P35: pound | Q35: =IF(O35=IFERROR(N35,9999),$K$1,IF(O35=IFERROR(J35,9999),$G$1,$C$1)) -> Sam's Club
A36: Clif Bars | B36: pantry | C36: 18.16 | D36: 24 | E36: =P36 -> count | F36: =ROUND(C36/D36,2) -> 0.76 | G36: 19.59 | H36: 26 | I36: =P36 -> count | J36: =ROUND(G36/H36,2) -> 0.75 | K36: x | M36: =P36 -> count | N36: =ROUND(K36/L36,2) -> #VALUE! | O36: =MIN(IFERROR(F36,N36),IFERROR(J36,F36),IFERROR(N36,J36)) -> 0.75 | P36: count | Q36: =IF(O36=IFERROR(N36,9999),$K$1,IF(O36=IFERROR(J36,9999),$G$1,$C$1)) -> Costco
A37: Coke cans | B37: drinks | C37: 13.82 | D37: 35 | E37: =P37 -> count | F37: =ROUND(C37/D37,2) -> 0.39 | G37: 13.69 | H37: 35 | I37: =P37 -> count | J37: =ROUND(G37/H37,2) -> 0.39 | K37: 5.67 | L37: 12 | M37: =P37 -> count | N37: =ROUND(K37/L37,2) -> 0.47 | O37: =MIN(IFERROR(F37,N37),IFERROR(J37,F37),IFERROR(N37,J37)) -> 0.39 | P37: count | Q37: =IF(O37=IFERROR(N37,9999),$K$1,IF(O37=IFERROR(J37,9999),$G$1,$C$1)) -> Costco
A38: colored bell peppers | B38: Produce | C38: 6.38 | D38: 6 | E38: =P38 -> count | F38: =ROUND(C38/D38,2) -> 1.06 | G38: 6.29 | H38: 6 | I38: =P38 -> count | J38: =ROUND(G38/H38,2) -> 1.05 | K38: 3.09 | L38: 3 | M38: =P38 -> count | N38: =ROUND(K38/L38,2) -> 1.03 | O38: =MIN(IFERROR(F38,N38),IFERROR(J38,F38),IFERROR(N38,J38)) -> 1.03 | P38: count | Q38: =IF(O38=IFERROR(N38,9999),$K$1,IF(O38=IFERROR(J38,9999),$G$1,$C$1)) -> Aldi
A39: Contact solution | B39: medicine | C39: 9.98 | D39: 48 | E39: =P39 -> ounces | F39: =ROUND(C39/D39,2) -> 0.21 | G39: 9.99 | H39: 48 | I39: =P39 -> ounces | J39: =ROUND(G39/H39,2) -> 0.21 | K39: x | M39: =P39 -> ounces | N39: =ROUND(K39/L39,2) -> #VALUE! | O39: =MIN(IFERROR(F39,N39),IFERROR(J39,F39),IFERROR(N39,J39)) -> 0.21 | P39: ounces | Q39: =IF(O39=IFERROR(N39,9999),$K$1,IF(O39=IFERROR(J39,9999),$G$1,$C$1)) -> Costco
A40: cooking spray | B40: Pantry | C40: 7.62 | D40: 24 | E40: =P40 -> ounces | F40: =ROUND(C40/D40,2) -> 0.32 | G40: 6.99 | H40: 24 | I40: =P40 -> ounces | J40: =ROUND(G40/H40,2) -> 0.29 | K40: 1.65 | L40: 8 | M40: =P40 -> ounces | N40: =ROUND(K40/L40,2) -> 0.21 | O40: =MIN(IFERROR(F40,N40),IFERROR(J40,F40),IFERROR(N40,J40)) -> 0.21 | P40: ounces | Q40: =IF(O40=IFERROR(N40,9999),$K$1,IF(O40=IFERROR(J40,9999),$G$1,$C$1)) -> Aldi
...

Sheet Item analysis
B1: Per Item | I1: Monthly | J1: Annual | L1: Annual
A2: Item | B2: Cost | C2: /quantity | D2: Where to Buy | E2: Sam's Price | F2: Costco Price | G2: Aldi Price | H2: Savings over Aldi | I2: Quantity Each Month | J2: Sam's Savings (annual) | K2: Costco Savings (annual) | L2: If only buying Sam's | M2: If only buying Costco
A3: activia yogurt | B3: =VLOOKUP(A3,'Price Master List'!A:Q,15,FALSE) -> 0.37 | C3: =VLOOKUP(A3,'Price Master List'!A:Q,16,FALSE) -> count | D3: =VLOOKUP(A3,'Price Master List'!A:Q,17,FALSE) -> Sam's Club | E3: =IFERROR(VLOOKUP(A3,'Price Master List'!A:N,6,FALSE),0) -> 0.37 | F3: =IFERROR(VLOOKUP(A3,'Price Master List'!A:N,10),0) -> 0.4 | G3: =IFERROR(VLOOKUP(A3,'Price Master List'!A:N,14,FALSE),0) -> 0 | H3: =IF(G3=0,0,G3-B3) -> 0 | I3: 0 | J3: =IF(D3="Sam's Club",H3*I3*12,0) -> 0 | K3: =IF(D3="Costco",H3*I3*12,0) -> 0 | L3: =IF(E3>0,IF(G3>0,IF(G3>E3,(G3-E3)*I3*12,0),0),0) -> 0 | M3: =IF(F3>0,IF(G3>0,IF(G3>F3,(G3-F3)*I3*12,0),0),0) -> 0
A4: advil | B4: =VLOOKUP(A4,'Price Master List'!A:Q,15,FALSE) -> 0.05 | C4: =VLOOKUP(A4,'Price Master List'!A:Q,16,FALSE) -> count | D4: =VLOOKUP(A4,'Price Master List'!A:Q,17,FALSE) -> Costco | E4: =IFERROR(VLOOKUP(A4,'Price Master List'!A:N,6,FALSE),0) -> 0.09 | F4: =IFERROR(VLOOKUP(A4,'Price Master List'!A:N,10),0) -> 0.05 | G4: =IFERROR(VLOOKUP(A4,'Price Master List'!A:N,14,FALSE),0) -> 0 | H4: =IF(G4=0,0,G4-B4) -> 0 | I4: 0 | J4: =IF(D4="Sam's Club",H4*I4*12,0) -> 0 | K4: =IF(D4="Costco",H4*I4*12,0) -> 0 | L4: =IF(E4>0,IF(G4>0,IF(G4>E4,(G4-E4)*I4*12,0),0),0) -> 0 | M4: =IF(F4>0,IF(G4>0,IF(G4>F4,(G4-F4)*I4*12,0),0),0) -> 0
A5: alfredo sauce | B5: =VLOOKUP(A5,'Price Master List'!A:Q,15,FALSE) -> 0.14 | C5: =VLOOKUP(A5,'Price Master List'!A:Q,16,FALSE) -> ounces | D5: =VLOOKUP(A5,'Price Master List'!A:Q,17,FALSE) -> Aldi | E5: =IFERROR(VLOOKUP(A5,'Price Master List'!A:N,6,FALSE),0) -> 0.14 | F5: =IFERROR(VLOOKUP(A5,'Price Master List'!A:N,10),0) -> 0.22 | G5: =IFERROR(VLOOKUP(A5,'Price Master List'!A:N,14,FALSE),0) -> 0.14 | H5: =IF(G5=0,0,G5-B5) -> 0 | I5: 0 | J5: =IF(D5="Sam's Club",H5*I5*12,0) -> 0 | K5: =IF(D5="Costco",H5*I5*12,0) -> 0 | L5: =IF(E5>0,IF(G5>0,IF(G5>E5,(G5-E5)*I5*12,0),0),0) -> 0 | M5: =IF(F5>0,IF(G5>0,IF(G5>F5,(G5-F5)*I5*12,0),0),0) -> 0
A6: all free & clear | B6: =VLOOKUP(A6,'Price Master List'!A:Q,15,FALSE) -> 0.06 | C6: =VLOOKUP(A6,'Price Master List'!A:Q,16,FALSE) -> ounces | D6: =VLOOKUP(A6,'Price Master List'!A:Q,17,FALSE) -> Costco | E6: =IFERROR(VLOOKUP(A6,'Price Master List'!A:N,6,FALSE),0) -> 0.06 | F6: =IFERROR(VLOOKUP(A6,'Price Master List'!A:N,10),0) -> 0.06 | G6: =IFERROR(VLOOKUP(A6,'Price Master List'!A:N,14,FALSE),0) -> 0 | H6: =IF(G6=0,0,G6-B6) -> 0 | I6: 0 | J6: =IF(D6="Sam's Club",H6*I6*12,0) -> 0 | K6: =IF(D6="Costco",H6*I6*12,0) -> 0 | L6: =IF(E6>0,IF(G6>0,IF(G6>E6,(G6-E6)*I6*12,0),0),0) -> 0 | M6: =IF(F6>0,IF(G6>0,IF(G6>F6,(G6-F6)*I6*12,0),0),0) -> 0
A7: apple juice | B7: =VLOOKUP(A7,'Price Master List'!A:Q,15,FALSE) -> 0.02 | C7: =VLOOKUP(A7,'Price Master List'!A:Q,16,FALSE) -> ounces | D7: =VLOOKUP(A7,'Price Master List'!A:Q,17,FALSE) -> Aldi | E7: =IFERROR(VLOOKUP(A7,'Price Master List'!A:N,6,FALSE),0) -> 0 | F7: =IFERROR(VLOOKUP(A7,'Price Master List'!A:N,10),0) -> 0.03 | G7: =IFERROR(VLOOKUP(A7,'Price Master List'!A:N,14,FALSE),0) -> 0.02 | H7: =IF(G7=0,0,G7-B7) -> 0 | I7: 0 | J7: =IF(D7="Sam's Club",H7*I7*12,0) -> 0 | K7: =IF(D7="Costco",H7*I7*12,0) -> 0 | L7: =IF(E7>0,IF(G7>0,IF(G7>E7,(G7-E7)*I7*12,0),0),0) -> 0 | M7: =IF(F7>0,IF(G7>0,IF(G7>F7,(G7-F7)*I7*12,0),0),0) -> 0
A8: applesauce pouches | B8: =VLOOKUP(A8,'Price Master List'!A:Q,15,FALSE) -> 0.37 | C8: =VLOOKUP(A8,'Price Master List'!A:Q,16,FALSE) -> count | D8: =VLOOKUP(A8,'Price Master List'!A:Q,17,FALSE) -> Aldi | E8: =IFERROR(VLOOKUP(A8,'Price Master List'!A:N,6,FALSE),0) -> 0.41 | F8: =IFERROR(VLOOKUP(A8,'Price Master List'!A:N,10),0) -> 0.4 | G8: =IFERROR(VLOOKUP(A8,'Price Master List'!A:N,14,FALSE),0) -> 0.37 | H8: =IF(G8=0,0,G8-B8) -> 0 | I8: 0 | J8: =IF(D8="Sam's Club",H8*I8*12,0) -> 0 | K8: =IF(D8="Costco",H8*I8*12,0) -> 0 | L8: =IF(E8>0,IF(G8>0,IF(G8>E8,(G8-E8)*I8*12,0),0),0) -> 0 | M8: =IF(F8>0,IF(G8>0,IF(G8>F8,(G8-F8)*I8*12,0),0),0) -> 0
A9: baby bella mushrooms | B9: =VLOOKUP(A9,'Price Master List'!A:Q,15,FALSE) -> 0.18 | C9: =VLOOKUP(A9,'Price Master List'!A:Q,16,FALSE) -> ounces | D9: =VLOOKUP(A9,'Price Master List'!A:Q,17,FALSE) -> Sam's Club | E9: =IFERROR(VLOOKUP(A9,'Price Master List'!A:N,6,FALSE),0) -> 0.18 | F9: =IFERROR(VLOOKUP(A9,'Price Master List'!A:N,10),0) -> 0.25 | G9: =IFERROR(VLOOKUP(A9,'Price Master List'!A:N,14,FALSE),0) -> 0.25 | H9: =IF(G9=0,0,G9-B9) -> 0.07 | I9: 0 | J9: =IF(D9="Sam's Club",H9*I9*12,0) -> 0 | K9: =IF(D9="Costco",H9*I9*12,0) -> 0 | L9: =IF(E9>0,IF(G9>0,IF(G9>E9,(G9-E9)*I9*12,0),0),0) -> 0 | M9: =IF(F9>0,IF(G9>0,IF(G9>F9,(G9-F9)*I9*12,0),0),0) -> 0
A10: Bacon | B10: =VLOOKUP(A10,'Price Master List'!A:Q,15,FALSE) -> 4.19 | C10: =VLOOKUP(A10,'Price Master List'!A:Q,16,FALSE) -> pound | D10: =VLOOKUP(A10,'Price Master List'!A:Q,17,FALSE) -> Aldi | E10: =IFERROR(VLOOKUP(A10,'Price Master List'!A:N,6,FALSE),0) -> 5.22 | F10: =IFERROR(VLOOKUP(A10,'Price Master List'!A:N,10),0) -> 4.75 | G10: =IFERROR(VLOOKUP(A10,'Price Master List'!A:N,14,FALSE),0) -> 4.19 | H10: =IF(G10=0,0,G10-B10) -> 0 | I10: 0 | J10: =IF(D10="Sam's Club",H10*I10*12,0) -> 0 | K10: =IF(D10="Costco",H10*I10*12,0) -> 0 | L10: =IF(E10>0,IF(G10>0,IF(G10>E10,(G10-E10)*I10*12,0),0),0) -> 0 | M10: =IF(F10>0,IF(G10>0,IF(G10>F10,(G10-F10)*I10*12,0),0),0) -> 0
A11: bagels | B11: =VLOOKUP(A11,'Price Master List'!A:Q,15,FALSE) -> 0.25 | C11: =VLOOKUP(A11,'Price Master List'!A:Q,16,FALSE) -> count | D11: =VLOOKUP(A11,'Price Master List'!A:Q,17,FALSE) -> Aldi | E11: =IFERROR(VLOOKUP(A11,'Price Master List'!A:N,6,FALSE),0) -> 0.5 | F11: =IFERROR(VLOOKUP(A11,'Price Master List'!A:N,10),0) -> 0.67 | G11: =IFERROR(VLOOKUP(A11,'Price Master List'!A:N,14,FALSE),0) -> 0.25 | H11: =IF(G11=0,0,G11-B11) -> 0 | I11: 0 | J11: =IF(D11="Sam's Club",H11*I11*12,0) -> 0 | K11: =IF(D11="Costco",H11*I11*12,0) -> 0 | L11: =IF(E11>0,IF(G11>0,IF(G11>E11,(G11-E11)*I11*12,0),0),0) -> 0 | M11: =IF(F11>0,IF(G11>0,IF(G11>F11,(G11-F11)*I11*12,0),0),0) -> 0
A12: baking potatoes | B12: =VLOOKUP(A12,'Price Master List'!A:Q,15,FALSE) -> 0.44 | C12: =VLOOKUP(A12,'Price Master List'!A:Q,16,FALSE) -> pound | D12: =VLOOKUP(A12,'Price Master List'!A:Q,17,FALSE) -> Aldi | E12: =IFERROR(VLOOKUP(A12,'Price Master List'!A:N,6,FALSE),0) -> 0.55 | F12: =IFERROR(VLOOKUP(A12,'Price Master List'!A:N,10),0) -> 0.53 | G12: =IFERROR(VLOOKUP(A12,'Price Master List'!A:N,14,FALSE),0) -> 0.44 | H12: =IF(G12=0,0,G12-B12) -> 0 | I12: 0 | J12: =IF(D12="Sam's Club",H12*I12*12,0) -> 0 | K12: =IF(D12="Costco",H12*I12*12,0) -> 0 | L12: =IF(E12>0,IF(G12>0,IF(G12>E12,(G12-E12)*I12*12,0),0),0) -> 0 | M12: =IF(F12>0,IF(G12>0,IF(G12>F12,(G12-F12)*I12*12,0),0),0) -> 0
A13: baking soda | B13: =VLOOKUP(A13,'Price Master List'!A:Q,15,FALSE) -> 0.51 | C13: =VLOOKUP(A13,'Price Master List'!A:Q,16,FALSE) -> pound | D13: =VLOOKUP(A13,'Price Master List'!A:Q,17,FALSE) -> Costco | E13: =IFERROR(VLOOKUP(A13,'Price Master List'!A:N,6,FALSE),0) -> 0.52 | F13: =IFERROR(VLOOKUP(A13,'Price Master List'!A:N,10),0) -> 0.51 | G13: =IFERROR(VLOOKUP(A13,'Price Master List'!A:N,14,FALSE),0) -> 0.59 | H13: =IF(G13=0,0,G13-B13) -> 0.08 | I13: 0 | J13: =IF(D13="Sam's Club",H13*I13*12,0) -> 0 | K13: =IF(D13="Costco",H13*I13*12,0) -> 0 | L13: =IF(E13>0,IF(G13>0,IF(G13>E13,(G13-E13)*I13*12,0),0),0) -> 0 | M13: =IF(F13>0,IF(G13>0,IF(G13>F13,(G13-F13)*I13*12,0),0),0) -> 0
A14: Bananas | B14: =VLOOKUP(A14,'Price Master List'!A:Q,15,FALSE) -> 0.47 | C14: =VLOOKUP(A14,'Price Master List'!A:Q,16,FALSE) -> pound | D14: =VLOOKUP(A14,'Price Master List'!A:Q,17,FALSE) -> Aldi | E14: =IFERROR(VLOOKUP(A14,'Price Master List'!A:N,6,FALSE),0) -> 0.53 | F14: =IFERROR(VLOOKUP(A14,'Price Master List'!A:N,10),0) -> 0.76 | G14: =IFERROR(VLOOKUP(A14,'Price Master List'!A:N,14,FALSE),0) -> 0.47 | H14: =IF(G14=0,0,G14-B14) -> 0 | I14: 0 | J14: =IF(D14="Sam's Club",H14*I14*12,0) -> 0 | K14: =IF(D14="Costco",H14*I14*12,0) -> 0 | L14: =IF(E14>0,IF(G14>0,IF(G14>E14,(G14-E14)*I14*12,0),0),0) -> 0 | M14: =IF(F14>0,IF(G14>0,IF(G14>F14,(G14-F14)*I14*12,0),0),0) -> 0
... A146: Ziplock quart | B146: =VLOOKUP(A146,'Price Master List'!A:Q,15,FALSE) -> 0.05 | C146: =VLOOKUP(A146,'Price Master List'!A:Q,16,FALSE) -> bag | D146: =VLOOKUP(A146,'Price Master List'!A:Q,17,FALSE) -> Aldi | E146: =IFERROR(VLOOKUP(A146,'Price Master List'!A:N,6,FALSE),0) -> 0.07 | F146: =IFERROR(VLOOKUP(A146,'Price Master List'!A:N,10),0) -> 0.06 | G146: =IFERROR(VLOOKUP(A146,'Price Master List'!A:N,14,FALSE),0) -> 0.05 | H146: =IF(G146=0,0,G146-B146) -> 0 | I146: 0 | J146: =IF(D146="Sam's Club",H146*I146*12,0) -> 0 | K146: =IF(D146="Costco",H146*I146*12,0) -> 0 | L146: =IF(E146>0,IF(G146>0,IF(G146>E146,(G146-E146)*I146*12,0),0),0) -> 0 | M146: =IF(F146>0,IF(G146>0,IF(G146>F146,(G146-F146)*I146*12,0),0),0) -> 0
J148: =SUM(J3:J146) -> 0 | K148: =SUM(K3:K146) -> 0 | L148: =SUM(L3:L146) -> 0 | M148: =SUM(M3:M146) -> 0

Sheet Decision
A2: Should you buy a Sam's Membership? | E2: =IF(C5>C4,"YES","NO") -> NO
A3: Plus Membership? | E3: =IF((C5*0.02)>55,"YES","NO") -> NO
B4: Price | C4: 45
B5: Savings | C5: ='Item analysis'!L148 -> 0
A7: Should you buy a Costco Membership? | E7: =IF(C10>C9,"YES","NO") -> NO
B9: Price | C9: 60
B10: Savings | C10: ='Item analysis'!M148 -> 0
A12: Should you buy both Memberships? | E12: =IF(C14>0,"YES","NO") -> NO
B14: Savings (net) | C14: ='Item analysis'!J148+'Item analysis'!K148-Decision!C4-Decision!C9 -> -105
